BEGIN:VCALENDAR
VERSION:2.0
PRODID:-//Saint Caprais de Lerm - ECPv6.15.20//NONSGML v1.0//EN
CALSCALE:GREGORIAN
METHOD:PUBLISH
X-WR-CALNAME:Saint Caprais de Lerm
X-ORIGINAL-URL:https://saintcapraisdelerm.fr
X-WR-CALDESC:Évènements pour Saint Caprais de Lerm
REFRESH-INTERVAL;VALUE=DURATION:PT1H
X-Robots-Tag:noindex
X-PUBLISHED-TTL:PT1H
BEGIN:VTIMEZONE
TZID:UTC
BEGIN:STANDARD
TZOFFSETFROM:+0000
TZOFFSETTO:+0000
TZNAME:UTC
DTSTART:20240101T000000
END:STANDARD
END:VTIMEZONE
BEGIN:VEVENT
DTSTART;TZID=UTC:20250613T173000
DTEND;TZID=UTC:20250613T230000
DTSTAMP:20260423T181400
CREATED:20250612T081457Z
LAST-MODIFIED:20250613T085425Z
UID:6519-1749835800-1749855600@saintcapraisdelerm.fr
SUMMARY:FÊTE DE L'ÉCOLE
DESCRIPTION:Vendredi 13 juin\, à partir de 17h30 l’APE propose des animations pour les enfants. \n18h30 spectacle des élèves du RPI \n19h30 restauration sur place. N’oubliez pas vos couverts. \nÉvénement ouverts à tous!!!
URL:https://saintcapraisdelerm.fr/agenda/fete-de-lecole/
LOCATION:Salle des fêtes\, Saint-Caprais-de-Lerm\, 47270\, France
CATEGORIES:Animations
ATTACH;FMTTYPE=image/jpeg:https://saintcapraisdelerm.fr/wp-content/uploads/2025/06/ape-1.jpg
ORGANIZER;CN="ASSO DES PARENTS D%E2%80%99%C3%89L%C3%88VES":MAILTO:ape.sauvagnas.stcaprais@gmail.com
END:VEVENT
END:VCALENDAR