BEGIN:VCALENDAR
VERSION:2.0
PRODID:-//Saint Caprais de Lerm - ECPv6.15.20//NONSGML v1.0//EN
CALSCALE:GREGORIAN
METHOD:PUBLISH
X-WR-CALNAME:Saint Caprais de Lerm
X-ORIGINAL-URL:https://saintcapraisdelerm.fr
X-WR-CALDESC:Évènements pour Saint Caprais de Lerm
REFRESH-INTERVAL;VALUE=DURATION:PT1H
X-Robots-Tag:noindex
X-PUBLISHED-TTL:PT1H
BEGIN:VTIMEZONE
TZID:UTC
BEGIN:STANDARD
TZOFFSETFROM:+0000
TZOFFSETTO:+0000
TZNAME:UTC
DTSTART:20240101T000000
END:STANDARD
END:VTIMEZONE
BEGIN:VEVENT
DTSTART;TZID=UTC:20250704T190000
DTEND;TZID=UTC:20250704T233000
DTSTAMP:20260423T183218
CREATED:20250603T115419Z
LAST-MODIFIED:20250613T085525Z
UID:6505-1751655600-1751671800@saintcapraisdelerm.fr
SUMMARY:MARCHÉ GOURMAND
DESCRIPTION:Marché gourmand\, producteurs locaux et concert. \nOrganisé par le comité des fêtes. N’oubliez pas vos couverts !! \n 
URL:https://saintcapraisdelerm.fr/agenda/marche-gourmand/
LOCATION:Salle des fêtes\, Saint-Caprais-de-Lerm\, 47270\, France
CATEGORIES:Animations
ATTACH;FMTTYPE=image/png:https://saintcapraisdelerm.fr/wp-content/uploads/2025/06/25-06-MARCHE-GOURMAND-1.png
END:VEVENT
END:VCALENDAR