BEGIN:VCALENDAR
VERSION:2.0
PRODID:-//Saint Caprais de Lerm - ECPv6.15.20//NONSGML v1.0//EN
CALSCALE:GREGORIAN
METHOD:PUBLISH
X-WR-CALNAME:Saint Caprais de Lerm
X-ORIGINAL-URL:https://saintcapraisdelerm.fr
X-WR-CALDESC:Évènements pour Saint Caprais de Lerm
REFRESH-INTERVAL;VALUE=DURATION:PT1H
X-Robots-Tag:noindex
X-PUBLISHED-TTL:PT1H
BEGIN:VTIMEZONE
TZID:UTC
BEGIN:STANDARD
TZOFFSETFROM:+0000
TZOFFSETTO:+0000
TZNAME:UTC
DTSTART:20250101T000000
END:STANDARD
END:VTIMEZONE
BEGIN:VEVENT
DTSTART;TZID=UTC:20260227T160000
DTEND;TZID=UTC:20260227T200000
DTSTAMP:20260422T200818
CREATED:20260129T084750Z
LAST-MODIFIED:20260209T084354Z
UID:6736-1772208000-1772222400@saintcapraisdelerm.fr
SUMMARY:CARNAVAL RPI
DESCRIPTION:Le Carnaval annonce l’hiver qui s’efface… \nÀ Sauvagnas\, les couleurs\, les rires et les déguisements s’invitent pour une fin d’après-midi placée sous le signe de la fête et de l’imaginaire. \nVendredi 27 février \n16h30 : les mains s’animent pour donner vie à M. Carnaval\n17h30 : les masques dansent lors du concours de déguisements\n18h30 : M. Carnaval s’embrase\, emportant l’hiver avec lui \nDouceurs sucrées et boissons vous attendront à la buvette \nRendez-vous à la salle des fêtes de Sauvagnas.
URL:https://saintcapraisdelerm.fr/agenda/carnaval-rpi/
CATEGORIES:Animations
ATTACH;FMTTYPE=image/png:https://saintcapraisdelerm.fr/wp-content/uploads/2026/01/26-02-APE-Carnaval.png
ORGANIZER;CN="ASSO DES PARENTS D%E2%80%99%C3%89L%C3%88VES":MAILTO:ape.sauvagnas.stcaprais@gmail.com
END:VEVENT
END:VCALENDAR